BEGIN:VCALENDAR
VERSION:2.0
PRODID:-//City of Sigourney, Iowa - ECPv6.15.20//NONSGML v1.0//EN
CALSCALE:GREGORIAN
METHOD:PUBLISH
X-WR-CALNAME:City of Sigourney, Iowa
X-ORIGINAL-URL:https://sigourney.com
X-WR-CALDESC:Events for City of Sigourney, Iowa
REFRESH-INTERVAL;VALUE=DURATION:PT1H
X-Robots-Tag:noindex
X-PUBLISHED-TTL:PT1H
BEGIN:VTIMEZONE
TZID:UTC
BEGIN:STANDARD
TZOFFSETFROM:+0000
TZOFFSETTO:+0000
TZNAME:UTC
DTSTART:20240101T000000
END:STANDARD
END:VTIMEZONE
BEGIN:VEVENT
DTSTART;TZID=UTC:20250530T080000
DTEND;TZID=UTC:20250601T160000
DTSTAMP:20260415T175842
CREATED:20241111T132857Z
LAST-MODIFIED:20250523T125353Z
UID:10000325-1748592000-1748793600@sigourney.com
SUMMARY:City-Wide Garage Sales - Summer 2025
DESCRIPTION:Mark your calendars for the City-Wide Garage Sales happening in Sigourney this summer! From May 30 to June 1\, 2025\, residents will have the chance to host garage sales across town. This is a perfect opportunity to find hidden treasures\, bargain shop\, or declutter your home. Maps of participating locations will be available on the city’s website and at local businesses.\nSign up to participate by contacting the City Clerk’s Office or filling out the form online.
URL:https://sigourney.com/event/city-wide-garage-sales-summer-2025/
LOCATION:Throughout Sigourney
CATEGORIES:Events
END:VEVENT
END:VCALENDAR